BEGIN:VCALENDAR
VERSION:2.0
PRODID:-//ChamberMaster//Event Calendar 2.0//EN
METHOD:PUBLISH
X-PUBLISHED-TTL:P3D
REFRESH-INTERVAL:P3D
CALSCALE:GREGORIAN
BEGIN:VEVENT
DTSTART:20260703T230000Z
DTEND:20260704T040000Z
X-MICROSOFT-CDO-ALLDAYEVENT:FALSE
SUMMARY:2026 Red\, White\, KaBoom! Fireworks Show
DESCRIPTION:We're excited to celebrate America's 250th birthday with Red\, White\, Kaboom! and we're excited to return to Ag Park for our 16th year.\n\n\n\nGuests can enjoy concessions\, a beer garden\, grandstand seating\, and more opportunities to be announced making this a comfortable and family-friendly event.\n\nParking passes are required for all cars entering the parking lot and can only be used once. Proceeds help support the many costs associated with hosting the event including the fireworks show\, venue setup\, operations\, and post-event cleanup.\n\nVeterans may receive a complimentary parking pass by registering with the DAV Department of Nebraska. Contact Jamie at (402) 270-9638 by June 30 to register.\n\nOrganized by the Columbus Area Chamber of Commerce\, this event has become a meaningful tradition\, offering our community a time to come together in celebration of Independence Day.\n\nPlans are still underway\, and more event features may be added so be sure to check back often or follow the Red\, White\, Kaboom Facebook Event Page for updates.\n\n\n\n\nEvent Info\n\nLocation: Ag Park\n\n822 15th St\, Columbus\, NE\n\nDate: Friday\, July 3\, 2025\n\nSchedule\n\n\n	6:00 PM: Gates\, food vendors\, beer garden\, and kids' activities open\n	10:00 PM: Fireworks display (music aired on KLIR\, The Hawk\, KZ-100)\n\n\n\n\nPasses & Entry\n\n\n	Parking Pass: $10 online / $20 at the gate\n	QR Code Ticket required for all entries\n	Veterans may register for complimentary passes by calling Jamie at (402) 270-9638 by June 30\n\n \n\nReminders\n\n\n	No outside alcohol or fireworks\n	Please clean up your space\n	Fireworks Display Music aired on KLIR (101.1 FM)\, 93.5 The Hawk (93.5 FM)\, and KZ-100 (100.3 FM). \n\n\n\n\nHow to Support the Show\n\n\n	Donate: $20\, $50\, $100+\n	Sponsor Levels: Blue ($250+) to Kaboom! ($2\,500+)\n	Deadline to sponsor: June 13\, 2026
X-ALT-DESC;FMTTYPE=text/html:<p data-end="499" data-start="196">We&rsquo\;re excited&nbsp\;to celebrate America&#39\;s 250th birthday with&nbsp\;<strong data-end="240" data-start="217">Red\, White\, Kaboom! </strong>and we&#39\;re excited to&nbsp\;return to <strong data-end="260" data-start="249">Ag Park</strong> for our 16th year.<br />\n<br />\nGuests can enjoy <strong data-end="533" data-start="518">concessions</strong>\, a <strong data-end="552" data-start="537">beer garden</strong>\,&nbsp\;<strong data-end="573" data-start="554">grandstand seating</strong>\, and <strong>more opportunities to be announced</strong>&mdash\;making this a comfortable and family-friendly event.</p>\n\n<p data-end="916" data-start="665"><strong data-end="702" data-start="686">Parking passes are</strong>&nbsp\;<strong>required</strong> for all cars entering the parking lot and can only be used once. Proceeds help support the many costs associated with hosting the event&mdash\;including the fireworks show\,&nbsp\;venue setup\, operations\, and post-event cleanup.</p>\n\n<p data-end="1010" data-start="841"><strong data-end="894" data-start="841">Veterans may receive a complimentary parking pass</strong> by registering with the <strong data-end="949" data-start="919">DAV Department of Nebraska</strong>. Contact <strong data-end="997" data-start="959">Jamie at (402) 270-9638 by June 30</strong> to register.</p>\n\n<p data-end="1192" data-start="1012">Organized by the Columbus Area Chamber of Commerce\, this event has become a meaningful tradition\, offering our community a time to come together in celebration of Independence Day.</p>\n\n<p data-end="1353" data-start="1194">Plans are still underway\, and more event features may be added&mdash\;so be sure to check back often or follow the Red\, White\, Kaboom Facebook Event Page for updates.</p>\n\n<hr />\n<div style="display: flex\; flex-wrap: wrap\; gap: 20px\;">\n<div style="flex: 1\; min-width: 300px\; padding: 15px\; border: 1px solid #ccc\; border-radius: 8px\;">\n<h3>Event Info</h3>\n\n<p><strong>Location:</strong> Ag Park<br />\n822 15th St\, Columbus\, NE</p>\n\n<p><strong>Date:</strong> Friday\, July 3\, 2025</p>\n\n<h3>Schedule</h3>\n\n<ul style="margin: 0\; padding-left: 20px\;">\n	<li><strong>6:00 PM:</strong> Gates\, food vendors\,&nbsp\;beer&nbsp\;garden\, and kids&#39\; activities open</li>\n	<li><strong>10:00 PM:</strong> Fireworks display (music aired on KLIR\, The Hawk\, KZ-100)</li>\n</ul>\n</div>\n\n<div style="flex: 1\; min-width: 300px\; padding: 15px\; border: 1px solid #ccc\; border-radius: 8px\;">\n<h3>Passes &amp\; Entry</h3>\n\n<ul style="margin: 0\; padding-left: 20px\;">\n	<li><strong>Parking Pass:</strong> $10 online / $20 at the gate</li>\n	<li><strong>QR Code Ticket required</strong> for all entries</li>\n	<li><strong>Veterans may register for complimentary passes</strong> by calling Jamie at (402) 270-9638 by June 30</li>\n</ul>\n&nbsp\;\n\n<h3>Reminders</h3>\n\n<ul style="margin: 0\; padding-left: 20px\;">\n	<li>No outside alcohol or fireworks</li>\n	<li>Please clean up your space</li>\n	<li>Fireworks Display Music aired on KLIR (101.1 FM)\, 93.5 The Hawk (93.5 FM)\, and KZ-100 (100.3 FM).&nbsp\;</li>\n</ul>\n\n<h3><br />\nHow to Support the Show</h3>\n\n<ul>\n	<li><strong>Donate:</strong> $20\, $50\, $100+</li>\n	<li><strong>Sponsor Levels:</strong> Blue ($250+) to Kaboom! ($2\,500+)</li>\n	<li><strong>Deadline to sponsor:</strong> June 13\, 2026</li>\n</ul>\n</div>\n</div>\n
LOCATION:Ag Park 822 15th Street Columbus\, NE 68601 Entrance: 10th Ave Gates YOUR TICKET MUST BE PRINTED OR SHOWN ON YOUR PHONE AND PRESENTED TO EVENT STAFF TO BE SCANNED TO GAIN ENTRY TO AG PARK. ONCE SCANNED\, PASSES CANNOT BE REUSED. INVALID SCANS WILL BE CHARGED THE $20 GATE FEE OR REFUSED ENTRY.
UID:e.299.23357
SEQUENCE:3
DTSTAMP:20260422T202104Z
URL:https://members.thecolumbuspage.com/events/details/2026-red-white-kaboom-fireworks-show-23357
END:VEVENT

END:VCALENDAR
